BEGIN:VCALENDAR
VERSION:2.0
PRODID:-//Squarespace Inc/Squarespace 6//v6//EN
BEGIN:VEVENT
UID:5e852be0048a040a10982675@squarespace.com
DTSTAMP:20200804T225029Z
DTSTART:20200914T050000Z
DTEND:20200914T070000Z
SUMMARY:September
END:VEVENT
END:VCALENDAR
