BEGIN:VCALENDAR
VERSION:2.0
PRODID:-//Squarespace Inc/Squarespace 6//v6//EN
BEGIN:VEVENT
UID:5e852c0d0211467623ae6cea@squarespace.com
DTSTAMP:20200804T225110Z
DTSTART:20201027T040000Z
DTEND:20201027T060000Z
SUMMARY:October
END:VEVENT
END:VCALENDAR
