BEGIN:VCALENDAR
VERSION:2.0
PRODID:-//Squarespace Inc/Squarespace 6//v6//EN
BEGIN:VEVENT
UID:5e852baf9641cc7f72de11a8@squarespace.com
DTSTAMP:20200804T225620Z
DTSTART:20200504T050000Z
DTEND:20200504T070000Z
SUMMARY:May
END:VEVENT
END:VCALENDAR
