BEGIN:VCALENDAR
VERSION:2.0
PRODID:-//Squarespace Inc/Squarespace 6//v6//EN
BEGIN:VEVENT
UID:5e852d077a8fab4a37c05016@squarespace.com
DTSTAMP:20200804T225744Z
DTSTART:20200121T040000Z
DTEND:20200121T060000Z
SUMMARY:March
END:VEVENT
END:VCALENDAR
