BEGIN:VCALENDAR
VERSION:2.0
PRODID:-//Squarespace Inc/Squarespace 6//v6//EN
BEGIN:VEVENT
UID:5e852c75228b196e3668175f@squarespace.com
DTSTAMP:20200804T225318Z
DTSTART:20200608T050000Z
DTEND:20200608T070000Z
SUMMARY:June
END:VEVENT
END:VCALENDAR
