BEGIN:VCALENDAR
VERSION:2.0
PRODID:-//Squarespace Inc/Squarespace 6//v6//EN
BEGIN:VEVENT
UID:5e7413c21ae5bd17b2a3625e@squarespace.com
DTSTAMP:20200402T000255Z
DTSTART:20200121T043000Z
DTEND:20200121T053000Z
SUMMARY:Review Strategic Plan
END:VEVENT
END:VCALENDAR
