BEGIN:VCALENDAR
VERSION:2.0
PRODID:-//Squarespace Inc/Squarespace 6//v6//EN
BEGIN:VEVENT
UID:5e852c3767274c1aea33601c@squarespace.com
DTSTAMP:20201116T212911Z
DTSTART:20201123T040000Z
DTEND:20201123T060000Z
SUMMARY:November
END:VEVENT
END:VCALENDAR
