BEGIN:VCALENDAR
VERSION:2.0
PRODID:-//Squarespace Inc/Squarespace 6//v6//EN
BEGIN:VEVENT
UID:5e852cdc693bfc224a2dfdd0@squarespace.com
DTSTAMP:20200804T225722Z
DTSTART:20200121T040000Z
DTEND:20200121T060000Z
SUMMARY:February
END:VEVENT
END:VCALENDAR
