BEGIN:VCALENDAR
VERSION:2.0
PRODID:-//Squarespace Inc/Squarespace 6//v6//EN
BEGIN:VEVENT
UID:5e852ca1dd4bd46c7a0eb6f7@squarespace.com
DTSTAMP:20200804T224901Z
DTSTART:20200810T050000Z
DTEND:20200810T070000Z
SUMMARY:August
END:VEVENT
END:VCALENDAR
